BEGIN:VCALENDAR
VERSION:2.0
PRODID:-//PINGSTKYRKAN LINKÖPING - ECPv6.15.0.1//NONSGML v1.0//EN
CALSCALE:GREGORIAN
METHOD:PUBLISH
X-ORIGINAL-URL:https://pingstlinkoping.se
X-WR-CALDESC:Händelser för PINGSTKYRKAN LINKÖPING
REFRESH-INTERVAL;VALUE=DURATION:PT1H
X-Robots-Tag:noindex
X-PUBLISHED-TTL:PT1H
BEGIN:VTIMEZONE
TZID:Europe/Stockholm
BEGIN:DAYLIGHT
TZOFFSETFROM:+0100
TZOFFSETTO:+0200
TZNAME:CEST
DTSTART:20260329T010000
END:DAYLIGHT
BEGIN:STANDARD
TZOFFSETFROM:+0200
TZOFFSETTO:+0100
TZNAME:CET
DTSTART:20261025T010000
END:STANDARD
END:VTIMEZONE
BEGIN:VEVENT
DTSTART;TZID=Europe/Stockholm:20260321T150000
DTEND;TZID=Europe/Stockholm:20260321T180000
DTSTAMP:20260421T122232
CREATED:20260305T112746Z
LAST-MODIFIED:20260305T125400Z
UID:8422-1774105200-1774116000@pingstlinkoping.se
SUMMARY:Familjedag
DESCRIPTION:Välkommen till Familjehäng tillsammans!\nVi möts i entrén kl.15:00 och har en rolig eftermiddag på Simhallen!\nVar och en ordnar med egen matsäck och inträdet.\nOm avgiften är ett bekymmer så kontakta oss i Barn- och familjeverksamheten i Pingstkyrkan så hittar vi en lösning.\nDu når oss via: info@pingstlinkoping.se
URL:https://pingstlinkoping.se/event/familjedag/
LOCATION:Tinnerbäcksbadet Linköping
CATEGORIES:barn,frontpage,Kalendersida,Kidz Sunday,LP,Royal,Tweens
ATTACH;FMTTYPE=image/jpeg:https://pingstlinkoping.se/wp-content/uploads/2026/03/Namnlos-design-3-1.jpg
END:VEVENT
END:VCALENDAR