BEGIN:VCALENDAR
VERSION:2.0
PRODID:-//PINGSTKYRKAN LINKÖPING - ECPv6.15.0.1//NONSGML v1.0//EN
CALSCALE:GREGORIAN
METHOD:PUBLISH
X-ORIGINAL-URL:https://pingstlinkoping.se
X-WR-CALDESC:Händelser för PINGSTKYRKAN LINKÖPING
REFRESH-INTERVAL;VALUE=DURATION:PT1H
X-Robots-Tag:noindex
X-PUBLISHED-TTL:PT1H
BEGIN:VTIMEZONE
TZID:Europe/Stockholm
BEGIN:DAYLIGHT
TZOFFSETFROM:+0100
TZOFFSETTO:+0200
TZNAME:CEST
DTSTART:20260329T010000
END:DAYLIGHT
BEGIN:STANDARD
TZOFFSETFROM:+0200
TZOFFSETTO:+0100
TZNAME:CET
DTSTART:20261025T010000
END:STANDARD
END:VTIMEZONE
BEGIN:VEVENT
DTSTART;TZID=Europe/Stockholm:20260207T100000
DTEND;TZID=Europe/Stockholm:20260207T150000
DTSTAMP:20260421T133241
CREATED:20260201T080509Z
LAST-MODIFIED:20260201T080509Z
UID:8380-1770458400-1770476400@pingstlinkoping.se
SUMMARY:Royal Rangers Vinterhajk
DESCRIPTION:Lördagen den 7/2 är det dags för Royal Rangers Vinterhajk! \nVi ses på Bjärka kl 10.00 \nAnmälan och hajklapp finns på Royals sida \n  \n  \n  \n  \n  \n  \n  \n  \n  \n  \n  \n  \n 
URL:https://pingstlinkoping.se/event/royal-rangers-vinterhajk/
LOCATION:Nya Slottet Bjärka-Säby\, Nya Slottet Bjärka-Säby\, Sturefors\, 589 64\, Sverige
CATEGORIES:barn,bjärkaläger,frontpage,Läger,Royal,Tweens,Ungdom
ATTACH;FMTTYPE=image/jpeg:https://pingstlinkoping.se/wp-content/uploads/2021/02/Royal_Rangers_1920_1080.jpg
END:VEVENT
BEGIN:VEVENT
DTSTART;VALUE=DATE:20260216
DTEND;VALUE=DATE:20260218
DTSTAMP:20260421T133241
CREATED:20251218T100449Z
LAST-MODIFIED:20251218T100449Z
UID:8304-1771200000-1771372799@pingstlinkoping.se
SUMMARY:Sportlovskul
DESCRIPTION:Sportlovskul – kom med!\nLägerdagar för dig som går i förskoleklass – åk 6\n\nNär?\nFörskoleklass-2an: måndag – tisdag v 8 2026\nåk 3-6: söndag-tisdag v 8 2026. \n\nVi kommer ha utflykt med buss till Nya Slottet i Bjärka Säby\, mycket lek och roliga aktiviteter\, gemenskap och samlingar. Vi äter frukost\, lunch\, mellanmål och middag tillsammans!\n\nAnmälan: https://formogr.am/tcLkTk8Ocd\n\nÄr ekonomin ett bekymmer tveka inte att höra av dig – vi vill att alla ska kunna vara med!
URL:https://pingstlinkoping.se/event/sportlovskul/
CATEGORIES:barn,frontpage,Kalendersida,Kidz Sunday,Läger,Royal,Tweens
ATTACH;FMTTYPE=image/png:https://pingstlinkoping.se/wp-content/uploads/2025/12/Sportlovskul_26.png
END:VEVENT
END:VCALENDAR