BEGIN:VCALENDAR
VERSION:2.0
PRODID:-//PINGSTKYRKAN LINKÖPING - ECPv6.15.0.1//NONSGML v1.0//EN
CALSCALE:GREGORIAN
METHOD:PUBLISH
X-WR-CALNAME:PINGSTKYRKAN LINKÖPING
X-ORIGINAL-URL:https://pingstlinkoping.se
X-WR-CALDESC:Händelser för PINGSTKYRKAN LINKÖPING
REFRESH-INTERVAL;VALUE=DURATION:PT1H
X-Robots-Tag:noindex
X-PUBLISHED-TTL:PT1H
BEGIN:VTIMEZONE
TZID:Europe/Stockholm
BEGIN:DAYLIGHT
TZOFFSETFROM:+0100
TZOFFSETTO:+0200
TZNAME:CEST
DTSTART:20260329T010000
END:DAYLIGHT
BEGIN:STANDARD
TZOFFSETFROM:+0200
TZOFFSETTO:+0100
TZNAME:CET
DTSTART:20261025T010000
END:STANDARD
END:VTIMEZONE
BEGIN:VEVENT
DTSTART;TZID=Europe/Stockholm:20260421T184500
DTEND;TZID=Europe/Stockholm:20260512T203000
DTSTAMP:20260424T145905
CREATED:20260423T102212Z
LAST-MODIFIED:20260423T102212Z
UID:8477-1776797100-1778617800@pingstlinkoping.se
SUMMARY:Bibelkurs
DESCRIPTION:Välkommen med på en fördjupningskurs i Bibeln om den Helige Ande. \nUpplägg för kvällarna: \n\n18.45 – 19.00 kaffe och te i entrén\n19.00 – 20.30 Bibelkurs i Cupan\n\nDet går bra att komma även om du inte är anmäld men vill du ta del av information\, boktips\, slides mm så behöver du anmäla dig. Kurserna sker i samarbete med Studieförbundet Bilda. \nSe mer och anmälan här: https://formogr.am/MeHI1Lh1tn
URL:https://pingstlinkoping.se/event/bibelkurs-4/
LOCATION:Cupolen\, Cupolen\, Linköping\, 58246\, Sverige
CATEGORIES:frontpage,Kalendersida,ungavuxna
ATTACH;FMTTYPE=image/jpeg:https://pingstlinkoping.se/wp-content/uploads/2026/04/Bibelkurs-DHA-april-26.jpg
END:VEVENT
BEGIN:VEVENT
DTSTART;VALUE=DATE:20260426
DTEND;VALUE=DATE:20260427
DTSTAMP:20260424T145905
CREATED:20260411T225659Z
LAST-MODIFIED:20260411T225659Z
UID:8461-1777161600-1777247999@pingstlinkoping.se
SUMMARY:Årsmöte 2026
DESCRIPTION:26 April 2026\nPingstkyrkan Linköping håller Årsmöte i Cupolen.
URL:https://pingstlinkoping.se/event/arsmote-2026/
LOCATION:Cupolen\, Cupolen\, Linköping\, 58246\, Sverige
CATEGORIES:frontpage,Kalendersida
ATTACH;FMTTYPE=image/jpeg:https://pingstlinkoping.se/wp-content/uploads/2026/04/Arsmote-2026.jpg
END:VEVENT
BEGIN:VEVENT
DTSTART;TZID=Europe/Stockholm:20260430T180000
DTEND;TZID=Europe/Stockholm:20260501T120000
DTSTAMP:20260424T145905
CREATED:20260423T091112Z
LAST-MODIFIED:20260423T091112Z
UID:8469-1777572000-1777636800@pingstlinkoping.se
SUMMARY:Övernattning Barn- familj & Ungdom Valborg
DESCRIPTION:Övernattning – gemenskap på Nya Slottet \nPå valborgsmässoafton\, efter församlingens firande på Nya Slottet så är alla barnfamiljer och ungdomar välkomna att sova över i annexet på Bjärka Säby. Tanken är att vi ska få en stunds avkoppling från vardagens stress med härlig gemenskap! \nDet går bra att checka in fr 18:00-19:30. \nDet blir enkel samvaro och möjlighet att dela livet tillsammans! \nKl.22 har Youth ett möte i Kapellet dit alla är välkomna med. Efter det fortsätter aktiviteter för ungdomarna inne på slottet. \nValborgskvällens mat ordnas på egen hand. Det finns möjlighet både att köpa korv av Royal Rangers och så är Slottskaféet inne på Nya Slottet öppet kl.18:00-22:00. \n1 maj äter vi en enklare brunch tillsammans kl.10:00 (vi ordnar en enklare ”förfrukost” för morgonpigga kl. 7:30)  \nVi hoppas sedan på fint väder och tänker att vi efter städning kan fortsätta umgås utomhus så länge man vill. \nKostnaden för övernattningen är 100 kr per person som är 6 år eller äldre.  (Avgiften är subventionerad så har du möjlighet att betala mer är det mycket välkommet.) \nAnmäl dig senast 27 april via denna länk
URL:https://pingstlinkoping.se/event/overnattning-barn-familj-ungdom-valborg/
LOCATION:Nya Slottet Bjärka-Säby\, Nya Slottet Bjärka-Säby\, Sturefors\, 589 64\, Sverige
CATEGORIES:barn,frontpage,Kalendersida,Läger,Royal,Ungdom
ATTACH;FMTTYPE=image/png:https://pingstlinkoping.se/wp-content/uploads/2026/04/Forsamlingsdag-2023.png
END:VEVENT
BEGIN:VEVENT
DTSTART;TZID=Europe/Stockholm:20260506T190000
DTEND;TZID=Europe/Stockholm:20260506T210000
DTSTAMP:20260424T145905
CREATED:20260423T092033Z
LAST-MODIFIED:20260423T111936Z
UID:8473-1778094000-1778101200@pingstlinkoping.se
SUMMARY:Snacka om sjukt!
DESCRIPTION:”Snacka om sjukt” kommer till oss!\nEfraim Jovlunden\, specialistläkare\, kommer blanda humor\, tävlingar\, kreativ\npedagogik och rått allvar kring psykisk hälsa för att hjälpa dig att bättre svara på\nfrågan: ”Hur mår du? På riktigt.”\nDet här blir en kväll utöver det vanliga där ditt och dina närståendes mående står\ni fokus. På medicinska grunder ökas förståelsen om dig själv och hur vi hjälper\ndem i vår närhet som har det tufft. På riktigt. 50.000 har hört honom live runtom hela landet senaste 18 månaderna. \nFörfika finns från 18:30. \nDet här vill du INTE missa ! Gratis\, och ingen anmälan krävs.
URL:https://pingstlinkoping.se/event/snacka-om-sjukt/
LOCATION:Cupolen\, Cupolen\, Linköping\, 58246\, Sverige
CATEGORIES:frontpage,Kalendersida,Tweens,ungavuxna,Ungdom
ATTACH;FMTTYPE=image/jpeg:https://pingstlinkoping.se/wp-content/uploads/2026/04/Hurmardu.jpg
END:VEVENT
BEGIN:VEVENT
DTSTART;VALUE=DATE:20260516
DTEND;VALUE=DATE:20260517
DTSTAMP:20260424T145905
CREATED:20260406T075958Z
LAST-MODIFIED:20260406T075958Z
UID:8456-1778889600-1778975999@pingstlinkoping.se
SUMMARY:Församlingsdag
DESCRIPTION:Församlingsdag på Nya Slottet 16 MAJ\nAnmälningslänk kommer!
URL:https://pingstlinkoping.se/event/forsamlingsdag/
LOCATION:Nya Slottet Bjärka-Säby\, Nya Slottet Bjärka-Säby\, Sturefors\, 589 64\, Sverige
CATEGORIES:bjarkasaby,frontpage
ATTACH;FMTTYPE=image/jpeg:https://pingstlinkoping.se/wp-content/uploads/2026/04/Forsamlingsdag-260516_webb.jpg
END:VEVENT
BEGIN:VEVENT
DTSTART;TZID=Europe/Stockholm:20260524T110000
DTEND;TZID=Europe/Stockholm:20260524T123000
DTSTAMP:20260424T145905
CREATED:20260311T083217Z
LAST-MODIFIED:20260314T172217Z
UID:8430-1779620400-1779625800@pingstlinkoping.se
SUMMARY:Ekumenisk gudstjänst
DESCRIPTION:Vi firar Pingstdagen tillsammans – Välkommen på ekumenisk gudstjänst kl.11:00 i Pingstkyrkan\, på Cupolen.
URL:https://pingstlinkoping.se/event/ekumenisk-gudstjanst/
LOCATION:Cupolen\, Cupolen\, Linköping\, 58246\, Sverige
CATEGORIES:frontpage,Kalendersida
ATTACH;FMTTYPE=image/jpeg:https://pingstlinkoping.se/wp-content/uploads/2026/03/2026-Pingstdagen-24-maj.jpg
END:VEVENT
BEGIN:VEVENT
DTSTART;VALUE=DATE:20260625
DTEND;VALUE=DATE:20260629
DTSTAMP:20260424T145905
CREATED:20260325T110720Z
LAST-MODIFIED:20260414T084926Z
UID:8447-1782345600-1782691199@pingstlinkoping.se
SUMMARY:Sommarläger - Tweens
DESCRIPTION:Välkommen med på Sommarläger på Nya Slottet i Bjärka Säby! \nDetta läger är för dig som är född 2013-2016 och görs tillsammans av två kyrkor – i Motala & Linköping\, men alla är välkomna! \nVi gör en massa roliga saker i den fina miljön som vi vill ta vara på. Det finns bl a en badsjö\, kanoter\, grillplats\, stora härliga grönområden och bra samlingssalar. \nVi kommer ha temat ”True or False” och utforska detta på olika sätt\, både i samlingar\, lekar och aktiviteter. \nDet finns många mindre rum som man sover i och har du som anmäler dig en kompis som du gärna vill dela rum med så meddela oss detta så försöker vi planera så det blir så bra för dig som möjligt. \nÄr ekonomin ett hinder så tveka inte att höra av dig så hittar vi en lösning. Vi önskar att alla barn ska ha möjlighet att delta på våra läger. \nSe mer info och anmälan här:  https://formogr.am/rTTSllGTtn \nVi ser fram emot att träffa dig för fina lägerdagar tillsammans! \nTweensledarna i Motala & Linköping
URL:https://pingstlinkoping.se/event/sommarlager-tweens/
LOCATION:Nya Slottet Bjärka-Säby\, Nya Slottet Bjärka-Säby\, Sturefors\, 589 64\, Sverige
CATEGORIES:barn,bjärkaläger,bjarkasaby,frontpage,Kalendersida,Läger,Royal,Tweens
ATTACH;FMTTYPE=image/png:https://pingstlinkoping.se/wp-content/uploads/2026/03/fac21481-7eda-4276-8712-3066082fa979.png
END:VEVENT
END:VCALENDAR