BEGIN:VCALENDAR
VERSION:2.0
PRODID:-//PINGSTKYRKAN LINKÖPING - ECPv6.15.0.1//NONSGML v1.0//EN
CALSCALE:GREGORIAN
METHOD:PUBLISH
X-WR-CALNAME:PINGSTKYRKAN LINKÖPING
X-ORIGINAL-URL:https://pingstlinkoping.se
X-WR-CALDESC:Händelser för PINGSTKYRKAN LINKÖPING
REFRESH-INTERVAL;VALUE=DURATION:PT1H
X-Robots-Tag:noindex
X-PUBLISHED-TTL:PT1H
BEGIN:VTIMEZONE
TZID:Europe/Stockholm
BEGIN:DAYLIGHT
TZOFFSETFROM:+0100
TZOFFSETTO:+0200
TZNAME:CEST
DTSTART:20260329T010000
END:DAYLIGHT
BEGIN:STANDARD
TZOFFSETFROM:+0200
TZOFFSETTO:+0100
TZNAME:CET
DTSTART:20261025T010000
END:STANDARD
END:VTIMEZONE
BEGIN:VEVENT
DTSTART;VALUE=DATE:20260303
DTEND;VALUE=DATE:20260513
DTSTAMP:20260423T024618
CREATED:20260220T083117Z
LAST-MODIFIED:20260220T083117Z
UID:8406-1772496000-1778630399@pingstlinkoping.se
SUMMARY:Bibelkurs
DESCRIPTION:Välkommen med att dyka ner i Bibeln tillsammans med oss! \nNu fortsätter vi terminen med fördjupning i Bibeln och den Gud är! \nDet handla om treenigheten. Start 3 mars. \nVi börjar med tre kurskvällar om Fadern. Därefter följer fyra gånger med fokus på Jesus innan vi i den livgivande vårgrönskan avslutar med att fördjupa oss i Den Helige Ande och vad han gör. Tre men ändå ett! \nUpplägg för kvällarna: \n\n18.45 – 19.00 kaffe och te i entrén\n19.00 – 20.30 Bibelkurs i Cupan\n\nKurserna sker i samarbete med Studieförbundet Bilda. Det går att välja att vara med på en enskild delkurs om man vill. \nDatum\nFadern: Tisdagen den 3 mars\, 10 mars och 17 mars\nJesus\, Sonen: Tisdagen den 24 mars\, 31 mars 7 april och 14 april\nDen Helige Ande: Tisdagen den  21 april\, 28 april\, 5 maj och 12 maj \nMer info och anmälan här \nVarmt välkommen!
URL:https://pingstlinkoping.se/event/bibelkurs/
CATEGORIES:frontpage,Kalendersida
ATTACH;FMTTYPE=image/jpeg:https://pingstlinkoping.se/wp-content/uploads/2026/02/Bibelkurs-treenigheten-varen-26.jpg
END:VEVENT
END:VCALENDAR